BEGIN:VCALENDAR
VERSION:2.0
PRODID:-//eventon.com NONSGML v1.0//EN
CALSCALE:GREGORIAN
METHOD:PUBLISH
BEGIN:VEVENT
UID:69e7c829936c5
DTSTAMP:20260421T185537
DTSTART:20231005T223000Z
DTEND:20240531T003000Z
TZID:America/New_York
LOCATION:UUGCN 6340 Napa Wood Way\,  Naples\,  FL 34116
SUMMARY:Choir Rehearsal (SY)
DESCRIPTION: \nhttps://www.uunaples.org/events/choir-rehearsal-sy/
URL:https://www.uunaples.org/events/choir-rehearsal-sy/
END:VEVENT
END:VCALENDAR