BEGIN:VCALENDAR
VERSION:2.0
PRODID:-//eventon.com NONSGML v1.0//EN
CALSCALE:GREGORIAN
METHOD:PUBLISH
BEGIN:VEVENT
UID:69eab94e56749
DTSTAMP:20260424T002902
DTSTART:20300613T223000Z
DTEND:20310207T013000Z
TZID:America/New_York
LOCATION:UUGCN 6340 Napa Wood Way\,  Naples\,  FL 34116
SUMMARY:Choir Rehearsal (SY)
DESCRIPTION: \nhttps://www.uunaples.org/events/choir-rehearsal-sy/var/ri-349.l-L1
URL:https://www.uunaples.org/events/choir-rehearsal-sy/var/ri-349.l-L1
END:VEVENT
END:VCALENDAR