BEGIN:VCALENDAR
VERSION:2.0
PRODID:-//eventon.com NONSGML v1.0//EN
CALSCALE:GREGORIAN
METHOD:PUBLISH
BEGIN:VEVENT
UID:69e534d2d143e
DTSTAMP:20260419T200226
DTSTART:20260830T140000Z
DTEND:20260830T150000Z
TZID:America/New_York
LOCATION:UUGCN 6340 Napa Wood Way\,  Naples\,  FL 34116
SUMMARY:Sunday Service
DESCRIPTION: Greeters: Ushers: Sexton: Money Counters: WA: Sunday Service Volunteers Needed!Please email office@uunaples.org if you are willing to volunteer for any of these tasks for Sunday services. Tasks &amp; Short descriptions: • Greeters: Welcome members and visitors and ask for visitor information if any. • Ushers: Pass out the Order of[..]\nhttps://www.uunaples.org/events/sunday-service/var/ri-202.l-L1
URL:https://www.uunaples.org/events/sunday-service/var/ri-202.l-L1
END:VEVENT
END:VCALENDAR