BEGIN:VCALENDAR
VERSION:2.0
PRODID:-//eventon.com NONSGML v1.0//EN
CALSCALE:GREGORIAN
METHOD:PUBLISH
BEGIN:VEVENT
UID:69e5691c184d1
DTSTAMP:20260419T234532
DTSTART:20261113T220000Z
DTEND:20261113T230000Z
TZID:America/New_York
LOCATION:UUGCN 6340 Napa Wood Way\,  Naples\,  FL 34116
SUMMARY:Circle Dinners
DESCRIPTION: \nhttps://www.uunaples.org/events/circle-dinners/var/ri-53.l-L1
URL:https://www.uunaples.org/events/circle-dinners/var/ri-53.l-L1
END:VEVENT
END:VCALENDAR