BEGIN:VCALENDAR
VERSION:2.0
PRODID:-//eventon.com NONSGML v1.0//EN
CALSCALE:GREGORIAN
METHOD:PUBLISH
BEGIN:VEVENT
UID:69e5b14fd5642
DTSTAMP:20260420T045335
DTSTART:20261211T220000Z
DTEND:20261211T230000Z
TZID:America/New_York
LOCATION:UUGCN 6340 Napa Wood Way\,  Naples\,  FL 34116
SUMMARY:Circle Dinners
DESCRIPTION: \nhttps://www.uunaples.org/events/circle-dinners/var/ri-54.l-L1
URL:https://www.uunaples.org/events/circle-dinners/var/ri-54.l-L1
END:VEVENT
END:VCALENDAR